BEGIN:VCALENDAR
VERSION:2.0
PRODID:-//Hotel-Restaurant | Busch Atter - ECPv6.15.20//NONSGML v1.0//EN
CALSCALE:GREGORIAN
METHOD:PUBLISH
X-WR-CALNAME:Hotel-Restaurant | Busch Atter
X-ORIGINAL-URL:https://busch-atter.de
X-WR-CALDESC:Veranstaltungen für Hotel-Restaurant | Busch Atter
REFRESH-INTERVAL;VALUE=DURATION:PT1H
X-Robots-Tag:noindex
X-PUBLISHED-TTL:PT1H
BEGIN:VTIMEZONE
TZID:Europe/Helsinki
BEGIN:DAYLIGHT
TZOFFSETFROM:+0200
TZOFFSETTO:+0300
TZNAME:EEST
DTSTART:20240331T010000
END:DAYLIGHT
BEGIN:STANDARD
TZOFFSETFROM:+0300
TZOFFSETTO:+0200
TZNAME:EET
DTSTART:20241027T010000
END:STANDARD
BEGIN:DAYLIGHT
TZOFFSETFROM:+0200
TZOFFSETTO:+0300
TZNAME:EEST
DTSTART:20250330T010000
END:DAYLIGHT
BEGIN:STANDARD
TZOFFSETFROM:+0300
TZOFFSETTO:+0200
TZNAME:EET
DTSTART:20251026T010000
END:STANDARD
BEGIN:DAYLIGHT
TZOFFSETFROM:+0200
TZOFFSETTO:+0300
TZNAME:EEST
DTSTART:20260329T010000
END:DAYLIGHT
BEGIN:STANDARD
TZOFFSETFROM:+0300
TZOFFSETTO:+0200
TZNAME:EET
DTSTART:20261025T010000
END:STANDARD
END:VTIMEZONE
BEGIN:VEVENT
DTSTART;VALUE=DATE:20250202
DTEND;VALUE=DATE:20250204
DTSTAMP:20260424T000202
CREATED:20241213T084227Z
LAST-MODIFIED:20241213T084227Z
UID:1189-1738483200-1738569599@busch-atter.de
SUMMARY:Tag der offenen Tür
DESCRIPTION:Am Sonntag\, 02.02.2025\, in der Zeit von 11:00 – 16:00 Uhr\, veranstalten wir einen „Tag der offenen Tür“ und zeigen Ihnen unsere verschiedenen Eventbereiche für Ihre Veranstaltungen. Bei uns können Sie auch „Freie Trauungen“ im Buchenwald sowie andere Outdoor-Veranstaltungen durchführen. Ebenso beraten wir Sie über eine kulinarische Begleitung Ihres Festes und zeigen Ihnen festlich dekorierte Tische. Wir freuen uns auf Ihren Besuch an diesem Tag.
URL:https://busch-atter.de/kalender/tag-der-offenen-tuer/
LOCATION:Hotel-Restaurant Busch Atter\, Eikesberg 51\, Osnabrück\, Niedersachsen\, 49076\, Germany
END:VEVENT
END:VCALENDAR