BEGIN:VCALENDAR
VERSION:2.0
PRODID:-//Hotel-Restaurant | Busch Atter - ECPv6.15.20//NONSGML v1.0//EN
CALSCALE:GREGORIAN
METHOD:PUBLISH
X-WR-CALNAME:Hotel-Restaurant | Busch Atter
X-ORIGINAL-URL:https://busch-atter.de
X-WR-CALDESC:Veranstaltungen für Hotel-Restaurant | Busch Atter
REFRESH-INTERVAL;VALUE=DURATION:PT1H
X-Robots-Tag:noindex
X-PUBLISHED-TTL:PT1H
BEGIN:VTIMEZONE
TZID:Europe/Helsinki
BEGIN:DAYLIGHT
TZOFFSETFROM:+0200
TZOFFSETTO:+0300
TZNAME:EEST
DTSTART:20240331T010000
END:DAYLIGHT
BEGIN:STANDARD
TZOFFSETFROM:+0300
TZOFFSETTO:+0200
TZNAME:EET
DTSTART:20241027T010000
END:STANDARD
BEGIN:DAYLIGHT
TZOFFSETFROM:+0200
TZOFFSETTO:+0300
TZNAME:EEST
DTSTART:20250330T010000
END:DAYLIGHT
BEGIN:STANDARD
TZOFFSETFROM:+0300
TZOFFSETTO:+0200
TZNAME:EET
DTSTART:20251026T010000
END:STANDARD
BEGIN:DAYLIGHT
TZOFFSETFROM:+0200
TZOFFSETTO:+0300
TZNAME:EEST
DTSTART:20260329T010000
END:DAYLIGHT
BEGIN:STANDARD
TZOFFSETFROM:+0300
TZOFFSETTO:+0200
TZNAME:EET
DTSTART:20261025T010000
END:STANDARD
END:VTIMEZONE
BEGIN:VEVENT
DTSTART;TZID=Europe/Helsinki:20250718T170000
DTEND;TZID=Europe/Helsinki:20250719T210000
DTSTAMP:20260423T192018
CREATED:20250610T134825Z
LAST-MODIFIED:20250610T134825Z
UID:2097-1752858000-1752958800@busch-atter.de
SUMMARY:Mediterraner Food-Event im Biergarten
DESCRIPTION:Freitag\, den 18 Juli ab 17 Uhr / Samstag\, den 19. Juli ab 17 Uhr \nAus der Sommerküche verwöhnen wir Sie mit leckeren mediterranen Gerichten vom Grill / Auswahlkarte \nGetränkeangebot: Pfirsich-Himbeere-Spritz / Aperol-Spitz / Lillet Wild Berry jeweils 5 € je Glas \n 
URL:https://busch-atter.de/kalender/mediterraner-food-event-im-biergarten/
END:VEVENT
END:VCALENDAR