BEGIN:VCALENDAR
VERSION:2.0
PRODID:-//Hotel-Restaurant | Busch Atter - ECPv6.15.20//NONSGML v1.0//EN
CALSCALE:GREGORIAN
METHOD:PUBLISH
X-ORIGINAL-URL:https://busch-atter.de
X-WR-CALDESC:Veranstaltungen für Hotel-Restaurant | Busch Atter
REFRESH-INTERVAL;VALUE=DURATION:PT1H
X-Robots-Tag:noindex
X-PUBLISHED-TTL:PT1H
BEGIN:VTIMEZONE
TZID:Europe/Helsinki
BEGIN:DAYLIGHT
TZOFFSETFROM:+0200
TZOFFSETTO:+0300
TZNAME:EEST
DTSTART:20240331T010000
END:DAYLIGHT
BEGIN:STANDARD
TZOFFSETFROM:+0300
TZOFFSETTO:+0200
TZNAME:EET
DTSTART:20241027T010000
END:STANDARD
BEGIN:DAYLIGHT
TZOFFSETFROM:+0200
TZOFFSETTO:+0300
TZNAME:EEST
DTSTART:20250330T010000
END:DAYLIGHT
BEGIN:STANDARD
TZOFFSETFROM:+0300
TZOFFSETTO:+0200
TZNAME:EET
DTSTART:20251026T010000
END:STANDARD
BEGIN:DAYLIGHT
TZOFFSETFROM:+0200
TZOFFSETTO:+0300
TZNAME:EEST
DTSTART:20260329T010000
END:DAYLIGHT
BEGIN:STANDARD
TZOFFSETFROM:+0300
TZOFFSETTO:+0200
TZNAME:EET
DTSTART:20261025T010000
END:STANDARD
END:VTIMEZONE
BEGIN:VEVENT
DTSTART;VALUE=DATE:20250302
DTEND;VALUE=DATE:20250304
DTSTAMP:20260423T205708
CREATED:20241213T084333Z
LAST-MODIFIED:20241213T084333Z
UID:1193-1740902400-1740988799@busch-atter.de
SUMMARY:Spanferkel zum Sattessen
DESCRIPTION:Am Sonntag\, 02.03.2025 von 12:00 – 15:00 Uhr und 17:00 – 20:00 Uhr servieren wir Ihnen unser leckeres Spanferkel -frisch aus dem Ofen-\, mit Sauerkraut und hausgemachtem Kartoffelpüree\, zum Sattessen für nur 19\,50 € pro Person. Eine Reservierung ist erforderlich! Tel.: 0541-710380
URL:https://busch-atter.de/kalender/spanferkel-zum-sattessen-3/
LOCATION:Hotel-Restaurant Busch Atter\, Eikesberg 51\, Osnabrück\, Niedersachsen\, 49076\, Germany
END:VEVENT
BEGIN:VEVENT
DTSTART;TZID=Europe/Helsinki:20250308T170000
DTEND;TZID=Europe/Helsinki:20250308T210000
DTSTAMP:20260423T205708
CREATED:20250303T115024Z
LAST-MODIFIED:20250304T083153Z
UID:1783-1741453200-1741467600@busch-atter.de
SUMMARY:Schnitzel zum Sattessen
DESCRIPTION: Reservierungen unter 0541-710380 oder info@Busch-Atter.de erforderlich.
URL:https://busch-atter.de/kalender/schnitzel-zum-sattessen/
END:VEVENT
BEGIN:VEVENT
DTSTART;VALUE=DATE:20250321
DTEND;VALUE=DATE:20250325
DTSTAMP:20260423T205708
CREATED:20250321T134650Z
LAST-MODIFIED:20250321T134650Z
UID:1895-1742544000-1742803199@busch-atter.de
SUMMARY:Aktions-Wochenende
DESCRIPTION:
URL:https://busch-atter.de/kalender/aktions-wochenende/
END:VEVENT
BEGIN:VEVENT
DTSTART;TZID=Europe/Helsinki:20250328T170000
DTEND;TZID=Europe/Helsinki:20250329T210000
DTSTAMP:20260423T205708
CREATED:20250303T113142Z
LAST-MODIFIED:20250303T113149Z
UID:1777-1743181200-1743282000@busch-atter.de
SUMMARY:Spare Ribs zum Sattessen
DESCRIPTION:Freitag\, den 28.3 und Samstag\, den 29.3. jeweils ab 17 Uhr. Preis pro Person 19\,90 €. Reservierung unter 0541-710380 oder info@busch-atter.de erforderlich.
URL:https://busch-atter.de/kalender/spare-ribs-zum-sattessen-2/
END:VEVENT
END:VCALENDAR