BEGIN:VCALENDAR
VERSION:2.0
PRODID:-//Hotel-Restaurant | Busch Atter - ECPv6.15.20//NONSGML v1.0//EN
CALSCALE:GREGORIAN
METHOD:PUBLISH
X-WR-CALNAME:Hotel-Restaurant | Busch Atter
X-ORIGINAL-URL:https://busch-atter.de
X-WR-CALDESC:Veranstaltungen für Hotel-Restaurant | Busch Atter
REFRESH-INTERVAL;VALUE=DURATION:PT1H
X-Robots-Tag:noindex
X-PUBLISHED-TTL:PT1H
BEGIN:VTIMEZONE
TZID:Europe/Helsinki
BEGIN:DAYLIGHT
TZOFFSETFROM:+0200
TZOFFSETTO:+0300
TZNAME:EEST
DTSTART:20240331T010000
END:DAYLIGHT
BEGIN:STANDARD
TZOFFSETFROM:+0300
TZOFFSETTO:+0200
TZNAME:EET
DTSTART:20241027T010000
END:STANDARD
BEGIN:DAYLIGHT
TZOFFSETFROM:+0200
TZOFFSETTO:+0300
TZNAME:EEST
DTSTART:20250330T010000
END:DAYLIGHT
BEGIN:STANDARD
TZOFFSETFROM:+0300
TZOFFSETTO:+0200
TZNAME:EET
DTSTART:20251026T010000
END:STANDARD
BEGIN:DAYLIGHT
TZOFFSETFROM:+0200
TZOFFSETTO:+0300
TZNAME:EEST
DTSTART:20260329T010000
END:DAYLIGHT
BEGIN:STANDARD
TZOFFSETFROM:+0300
TZOFFSETTO:+0200
TZNAME:EET
DTSTART:20261025T010000
END:STANDARD
END:VTIMEZONE
BEGIN:VEVENT
DTSTART;TZID=Europe/Helsinki:20250627T170000
DTEND;TZID=Europe/Helsinki:20250628T210000
DTSTAMP:20260423T223628
CREATED:20250610T132025Z
LAST-MODIFIED:20250610T140048Z
UID:2092-1751043600-1751144400@busch-atter.de
SUMMARY:Spare-Ribs zum Sattessen
DESCRIPTION:Freitag\, den 27.6 und Samstag \, den 28.6  jeweils ab 17 Uhr  \nSpare-Ribs frisch aus dem Ofen  zum Sattessen \, für 19\,90 € pro Person. \nReservierung erforderlich !
URL:https://busch-atter.de/kalender/spare-ribs-zum-sattessen-3/
LOCATION:Hotel-Restaurant Busch Atter\, Eikesberg 51\, Osnabrück\, Niedersachsen\, 49076\, Germany
END:VEVENT
END:VCALENDAR